Workbook

Sheet 記入用シート
B1: ★こちらのシートにのみ入力し、届出書シートと記入例シートには入力しないでください。 | D1: ★入力欄の黄色いセル欄にのみ入力してください。
B2: 地区計画・沿道地区計画の区域内における行為の変更届出書
B3: No. | C3: 記入項目 | D3: 入力欄 | G3: 備考 | H3: 記載チェック | N3: 地区計画の種類
B4: No.1 | C4: 届出を行う地区計画の種類を選択してください。 | G4: リストから選択してください。 | H4: =IF(D4="","必須事項です。 選択してください。","") -> 必須事項です。 選択してください。 | N4: 蚕糸試験場跡地周辺地区地区計画 | O4: 蚕糸 | P4: 0
B5: No.2 | C5: 届出日年月日を入力してください。 | G5: 行為の着手予定日より３０日前までに届出していただく必要があります。 | H5: =IF(D5="","必須事項です。 記入してください。","") -> 必須事項です。 記入してください。 | N5: 気象研究所跡地周辺地区地区計画 | O5: 気象研 | P5: 0
B6: No.3 | C6: 届出者の住所を入力してください。 | H6: =IF(D6="","必須事項です。 記入してください。","") -> 必須事項です。 記入してください。 | N6: 宮前二丁目地区地区計画 | O6: 宮前二 | P6: 0
B7: No.4 | C7: 届出者の氏名を入力してください。 | D7: 会社名： | H7: =IF(F7="","任意事項です。","") -> 任意事項です。 | N7: 大田黒周辺地区地区計画 | O7: 大田黒 | P7: 0
D8: 氏名： | G8: 役職がある場合は氏名の前に記入してください。 | H8: =IF(F8="","必須事項です。 記入してください。","") -> 必須事項です。 記入してください。 | N8: 高井戸一丁目地区地区計画 | O8: 高井戸一 | P8: 0
D9: 氏名： | G9: 複数名のお名前を入力する際は、こちらに入力してください。 | H9: =IF(F9="","任意事項です。","") -> 任意事項です。 | N9: 荻窪三丁目地区地区計画 | O9: 荻窪三 | P9: 0
B10: No.5 | C10: 当初の届出年月日を入力してください。 | G10: 行為の届出書の日付を入力してください。 | H10: =IF(D10="","必須事項です。 記入してください。","") -> 必須事項です。 記入してください。 | N10: 成田東四丁目地区地区計画 | O10: 成田東四 | P10: 0
B11: No.6 | C11: 当初の届出書の受付番号を入力してください。 | G11: 通知書に記載されている受付番号を入力してください。（○○第●●号） | H11: =IF(D11="","必須事項です。 記入してください。","") -> 必須事項です。 記入してください。 | N11: 宮前三丁目地区地区計画 | O11: 宮前三 | P11: 0
B12: No.7 | C12: 変更の内容を入力してください。 | E12: 変更事項 | F12: 変更内容 | G12: 変更事項を選択のうえ、変更の内容を入力してください。 記載例 （変更前）→（変更後） | H12: =IF(F13="","必須事項です。 記入してください。","") -> 必須事項です。 記入してください。 | N12: 玉川上水・放射５号線周辺地区地区計画 | O12: 放射５ | P12: 0
D13: 変更① | M13: 届出者氏名 | N13: 阿佐ヶ谷駅北東地区地区計画 | O13: 北東 | P13: 0
D14: 変更② | M14: 届出住所 | N14: 杉並区環七沿道地区計画 | O14: 環七 | P14: 1
D15: 変更③ | M15: 届出地番 | N15: 杉並区環状八号線沿道地区計画 | O15: 環八 | P15: 1
D16: 変更④ | M16: 構造
D17: 変更⑤ | M17: 階数
D18: 変更⑥ | M18: 用途
D19: 変更⑦ | M19: 敷地面積 | N19: =D4 -> 0 | O19: =VLOOKUP($N$19,$N$4:$P$18,2,FALSE) -> #N/A | P19: =IFERROR(VLOOKUP($N$19,$N$4:$P$18,3,FALSE),0) -> 0
D20: 変更⑧ | M20: 建築面積
D21: 変更⑨ | M21: 延べ面積
D22: 変更⑩ | M22: 地盤面からの高さ
B23: No.8 | C23: 変更部分に係る行為の着手予定日を入力してください。 | G23: 行為の着手予定日より３０日前までに届出していただく必要があります。 | H23: =IF(D23="","必須事項です。 記入してください。","") -> 必須事項です。 記入してください。 | M23: 垣又はさくの構造
B24: No.9 | C24: 変更部分に係る行為の完了予定日を入力してください。 | H24: =IF(D24="","必須事項です。 記入してください。","") -> 必須事項です。 記入してください。 | M24: 沿道整備道路中心からの高さ
B25: No.10 | C25: ご担当者様の会社名を入力してください。 | H25: =IF(D25="","必須事項です。 記入してください。","") -> 必須事項です。 記入してください。 | M25: 建築物の面する長さ
B26: No.11 | C26: ご担当者様の氏名を入力してください。 | H26: =IF(D26="","必須事項です。 記入してください。","") -> 必須事項です。 記入してください。 | M26: 敷地の接する長さ
B27: No.12 | C27: ご担当者様の電話番号を入力してください。 | H27: =IF(D27="","必須事項です。 記入してください。","") -> 必須事項です。 記入してください。 | M27: その他

Sheet 記入例
B1: ★こちらのシートにのみ入力し、届出書シートと記入例シートには入力しないでください。 | D1: ★入力欄の黄色いセル欄にのみ入力してください。
B2: 地区計画・沿道地区計画の区域における変更届出書
B3: No. | C3: 記入項目 | D3: 入力欄 | G3: 備考 | H3: 記載チェック | N3: 地区計画の種類
B4: No.1 | C4: 届出を行う地区計画の種類を選択してください。 | D4: 杉並区環七沿道地区計画 | G4: リストから選択してください。 | H4: =IF(D4="","必須事項です。 選択してください。","") | N4: 蚕糸試験場跡地周辺地区地区計画 | O4: 蚕糸 | P4: 0
B5: No.2 | C5: 届出日年月日を入力してください。 | D5: 46204 | G5: 行為の着手予定日より３０日前までに届出していただく必要があります。 | H5: =IF(D5="","必須事項です。 記入してください。","") | N5: 気象研究所跡地周辺地区地区計画 | O5: 気象研 | P5: 0
B6: No.3 | C6: 届出者の住所を入力してください。 | D6: 杉並区阿佐谷南1-15-1 | H6: =IF(D6="","必須事項です。 記入してください。","") | N6: 宮前二丁目地区地区計画 | O6: 宮前二 | P6: 0
B7: No.4 | C7: 届出者の氏名を入力してください。 | D7: 会社名： | E7: 杉並区役所 | H7: =IF(E7="","任意事項です。","") | N7: 大田黒周辺地区地区計画 | O7: 大田黒 | P7: 0
D8: 氏名： | E8: なみすけ | G8: 役職がある場合は氏名の前に記入してください。 | H8: =IF(E8="","必須事項です。 記入してください。","") | N8: 高井戸一丁目地区地区計画 | O8: 高井戸一 | P8: 0
D9: 氏名： | E9: なみー | G9: 複数名のお名前を入力する際は、こちらに入力してください。 | H9: =IF(E9="","任意事項です。","") | N9: 荻窪三丁目地区地区計画 | O9: 荻窪三 | P9: 0
B10: No.5 | C10: 当初の届出年月日を入力してください。 | D10: 46113 | G10: 行為の届出書の日付を入力してください。 | H10: =IF(D10="","必須事項です。 記入してください。","") | N10: 成田東四丁目地区地区計画 | O10: 成田東四 | P10: 0
B11: No.6 | C11: 当初の届出書の受付番号を入力してください。 | D11: 環七第803号 | G11: 通知書に記載されている受付番号を入力してください。（○○第●●号） | H11: =IF(D11="","必須事項です。 記入してください。","") | N11: 宮前三丁目地区地区計画 | O11: 宮前三 | P11: 0
B12: No.7 | C12: 変更の内容を入力してください。 | E12: 変更事項 | F12: 変更内容 | G12: 変更事項を選択のうえ、変更の内容を入力してください。 記載例 （変更前）→（変更後） | H12: =IF(F13="","必須事項です。 記入してください。","")
D13: 変更① | E13: 敷地面積 | F13: 120.00㎡→115.00㎡ | M13: 届出者氏名 | N13: 玉川上水・放射５号線周辺地区地区計画 | O13: 放射５ | P13: 0
D14: 変更② | E14: 建築面積 | F14: 65.00㎡→65.03㎡ | M14: 届出住所 | N14: 阿佐ヶ谷駅北東地区地区計画 | O14: 北東 | P14: 0
D15: 変更③ | E15: 延べ面積 | F15: 152.83㎡→152.98㎡ | M15: 届出地番 | N15: 杉並区環七沿道地区計画 | O15: 環七 | P15: 1
D16: 変更④ | E16: 垣又はさくの構造 | F16: CB4段→CB1段+アルミフェンスH1000 | M16: 構造 | N16: 杉並区環状八号線沿道地区計画 | O16: 環八 | P16: 1
D17: 変更⑤ | E17: 階数 | F17: 地上３階→地上２階地下１階 | M17: 階数
D18: 変更⑥ | E18: 建築物の面する長さ | F18: 12.50ｍ→12.00ｍ | M18: 用途
D19: 変更⑦ | E19: 地盤面からの高さ | F19: 9.8ｍ→6.2ｍ | M19: 敷地面積 | N19: =D4 -> 杉並区環七沿道地区計画 | O19: =VLOOKUP($N$19,$N$4:$P$18,2,FALSE) -> 環七 | P19: =IFERROR(VLOOKUP($N$19,$N$4:$P$18,3,FALSE),0) -> 1
D20: 変更⑧ | E20: その他 | F20: 外壁色変更：グレー→アイボリー | M20: 建築面積
D21: 変更⑨ | M21: 延べ面積
D22: 変更⑩ | M22: 地盤面からの高さ
B23: No.8 | C23: 変更部分に係る行為の着手予定日を入力してください。 | D23: 46266 | G23: 行為の着手予定日より３０日前までに届出していただく必要があります。 | H23: =IF(D23="","必須事項です。 記入してください。","") | M23: 垣又はさくの構造
B24: No.9 | C24: 変更部分に係る行為の完了予定日を入力してください。 | D24: 46357 | H24: =IF(D24="","必須事項です。 記入してください。","") | M24: 沿道整備道路中心からの高さ
B25: No.10 | C25: ご担当者様の会社名を入力してください。 | D25: 杉並区役所 | H25: =IF(D25="","必須事項です。 記入してください。","") | M25: 建築物の面する長さ
B26: No.11 | C26: ご担当者様の氏名を入力してください。 | D26: なみおじ | H26: =IF(D26="","必須事項です。 記入してください。","") | M26: 敷地の接する長さ
B27: No.12 | C27: ご担当者様の電話番号を入力してください。 | D27: 03-3312-2111 | H27: =IF(D27="","必須事項です。 記入してください。","") | M27: その他

Sheet 変更届出書（出力）
C2: 別記様式第２
B4: =" "&IF(記入用シート!$P$19=1,"沿 道 地 区 計 画","地 区 計 画")&" の 区 域 内 に お け る 行 為 の 変 更 届 出 書" -> 地 区 計 画 の 区 域 内 に お け る 行 為 の 変 更 届 出 書
I6: =IF(記入用シート!F5="","",記入用シート!F5) | U6: =IF(記入用シート!D5="","年 月 日",記入用シート!D5) -> 年 月 日
D8: 杉並区長 宛
N9: 届出者 | Q9: 住所 | S9: =IF(記入用シート!D6="","",記入用シート!D6)
Q11: 氏名 | S11: =IF(記入用シート!E7="","",記入用シート!E7)
S12: =IF(記入用シート!E8="","",記入用シート!E8)
S13: =IF(記入用シート!E9="","",記入用シート!E9)
D15: =" "&IF(記入用シート!$P$19=1,"幹線道路の沿道の整備に関する法律第10条第２項の規定により、届出事項の変更","都市計画法第58条の２第２項の規定に基づき、届出事項の変更について、") -> 都市計画法第58条の２第２項の規定に基づき、届出事項の変更について、
D16: =IF(記入用シート!$P$19=1,"について、","")&"下記のとおり届け出ます。" -> 下記のとおり届け出ます。
B18: 記
D20: １ 当初の届出年月日 | P20: =IF(記入用シート!D10="","",記入用シート!D10)
D21: ２ 当初の届出受付番号 | P21: =IF(記入用シート!D11="","",記入用シート!D11)
D22: ３ 変更の内容 | L22: =IF(記入用シート!F13="","",記入用シート!E13&"："&記入用シート!F13)
L23: =IF(記入用シート!F14="","",記入用シート!E14&"："&記入用シート!F14)
L24: =IF(記入用シート!F15="","",記入用シート!E15&"："&記入用シート!F15)
L25: =IF(記入用シート!F16="","",記入用シート!E16&"："&記入用シート!F16)
L26: =IF(記入用シート!F17="","",記入用シート!E17&"："&記入用シート!F17)
L27: =IF(記入用シート!F18="","",記入用シート!E18&"："&記入用シート!F18)
L28: =IF(記入用シート!F19="","",記入用シート!E19&"："&記入用シート!F19)
L29: =IF(記入用シート!F20="","",記入用シート!E20&"："&記入用シート!F20)
L30: =IF(記入用シート!F21="","",記入用シート!E21&"："&記入用シート!F21)
L31: =IF(記入用シート!F22="","",記入用シート!E22&"："&記入用シート!F22)
D32: ４ 変更部分に係る行為の着手予定日 | P32: =IF(記入用シート!D23="","",記入用シート!D23)
D33: ５ 変更部分に係る行為の完了予定日 | P33: =IF(記入用シート!D24="","",記入用シート!D24)
E35: 備考
E36: １．届出者が法人である場合においては、氏名は、その法人の名称及び代表者の
E37: 氏名を記載すること。
E38: ２．変更の内容は、変更前及び変更後の内容を対照させて記載すること。
E42: ●連絡先 | H42: 会 社 名： | L42: =IF(記入用シート!D25="","",記入用シート!D25)
H43: 氏 名： | L43: =IF(記入用シート!D26="","",記入用シート!D26)
H44: 電話番号： | L44: =IF(記入用シート!D27="","",記入用シート!D27)
