Workbook
Name Q_物件ｺｰﾄﾞ表_物件ｺｰﾄﾞ順_: #REF!
Name sgk: '[1]総括表 (出)'!$G$23
Name ｕｐｐ: #REF!
Name ｼｰﾘﾝｸﾞ: #REF!
Name ｼｰﾘﾝｸﾞ工事: [2]内訳書!$G$114
Name ｼｰﾘﾝｸﾞ工事合計: #REF!
Name ｼｰﾙ: #REF!
Name つき: [3]Sheet3!$B$2:$B$13
Name ねん: '[4]Sheet3 (2)'!$A$2:$A$12
Name ひ: [3]Sheet3!$C$2:$C$32
Name マンション番号: #REF!
Name マンション名: #REF!
Name マンション名称Ａ: #REF!
Name マンション名称Ｂ: #REF!
Name ﾘｽｸ回避文書: #REF!
Name 下地補修工事合計: #REF!
Name 仮設工事合計: #REF!
Name 外注業者: #REF!
Name 外注業者１: #REF!
Name 外注業者2: #REF!
Name 外注業者Ａ: #REF!
Name 外注業者Ｂ: #REF!
Name 外壁仕上げ工事合計: #REF!
Name 管理物件: #REF!
Name 期間: '[5]基礎表（６年）'!$E$7
Name 技術部担当: #REF!
Name 共仮: '[6]内訳明細書（見積原価）'!$O$42
Name 金利: '[5]基礎表（６年）'!$E$6
Name 月: '[4]Sheet3 (2)'!$B$2:$B$13
Name 件名: #REF!
Name 見No.___________．: #REF!
Name 見積り番号: #REF!
Name 見積依頼日: #REF!
Name 見積提出日: #REF!
Name 原価: #REF!
Name 原価1: #REF!
Name 現場: [7]内訳書!$G$994
Name 現場管理費: [2]内訳書!$G$455
Name 現場経費: #REF!
Name 工期: [8]Sheet2!$B$26:$B$33
Name 工事業者: #REF!
Name 工事件名: #REF!
Name 工事担当: #REF!
Name 工事費合計: #REF!
Name 項目: #REF!
Name 項目NO: [9]文言集!$C$2:$C$21
Name 項目選択: #REF!
Name 合計金額: #REF!
Name 雑: [7]内訳書!$G$978
Name 雑工事合計: #REF!
Name 雑工事費_: #REF!
Name 時: [3]Sheet3!$F$2:$F$25
Name 時間帯: [3]Sheet3!$E$2:$E$3
Name 実質利益率: #REF!
Name 社員負担率: '[5]基礎表（６年）'!$C$35
Name 住所: #REF!
Name 粗利: #REF!
Name 足場: [7]内訳書!$G$82
Name 足場仮設工事: [2]内訳書!$G$66
Name 台数: '[5]基礎表（６年）'!$C$7

Sheet 総括表
A1: 件名:上井草二丁目ｱﾊﾟｰﾄ 外壁修繕・手摺改修工事
A2: No. | B2: 名 称 | C2: 仕 様 | D2: 数 量 | E2: 呼 称 | F2: 単 価 | G2: 金 額 | H2: 備 考
A3: Ⅰ | B3: 共通仮設工事 | D3: 1 | E3: 式 | G3: =内訳明細書!G53 -> 0
A4: Ⅱ | B4: 足場仮設工事 | D4: 1 | E4: 式 | G4: =内訳明細書!G104 -> 0
A5: Ⅲ | B5: ｼｰﾘﾝｸﾞ工事 | D5: 1 | E5: 式 | G5: =内訳明細書!G138 -> 0
A6: Ⅳ | B6: 外壁調査工事 | D6: 1 | E6: 式 | G6: =内訳明細書!G155 -> 0
A7: Ⅴ | B7: 躯体補修工事 | D7: 1 | E7: 式 | G7: =内訳明細書!G206 -> 0
A8: Ⅵ | B8: 内外壁塗装工事 | D8: 1 | E8: 式 | G8: =内訳明細書!G257 -> 0
A9: Ⅶ | B9: 鉄部塗装工事 | D9: 1 | E9: 式 | G9: =内訳明細書!G401 -> 0
A10: Ⅷ | B10: 建築他改修工事 | D10: 1 | E10: 式 | G10: =内訳明細書!G427 -> 0
A11: Ⅸ | B11: 現場管理費 | C11: 4ヶ月 現場所長:巡回管理､工事責任者:常駐管理 | D11: 1 | E11: 式 | G11: =内訳明細書!G444 -> 0
B12: 直接工事費計
A13: Ⅹ | B13: 諸経費 | C13: 法定福利費\***円含む | D13: 1 | E13: 式 | G13: =G12*0.12 -> 0
B14: 中計 | G14: =SUM(G12:G13) -> 0
B15: 調整金 | G15: =ROUNDDOWN(G14,-5)-G14 -> 0
B16: 合計 | G16: =SUM(G14:G15) -> 0
B17: 消費税等 | C17: 0.1 | G17: =G16*C17 -> 0
B18: 総合計 | G18: =SUM(G16:G17) -> 0

Sheet 内訳明細書
A1: 件名:上井草二丁目ｱﾊﾟｰﾄ 外壁修繕・手摺改修工事
A2: No. | B2: 名 称 | C2: 仕 様 | D2: 数 量 | E2: 呼 称 | F2: 単 価 | G2: 金 額 | H2: 備 考
A3: Ⅰ | B3: 共通仮設工事
A4: 1 | B4: 現場事務所兼作業員詰所 | C4: 組立ﾊｳｽ 2坪ﾀｲﾌﾟ(換気設備･施錠共) ※16･23号棟で兼用 | D4: 1 | E4: 式 | H4: 1,800×3,600程度 16号棟南面
A5: 2 | B5: 資材倉庫（16号棟） | C5: 組立ﾊｳｽ 2坪ﾀｲﾌﾟ(換気設備･施錠共) | D5: 1 | E5: 式 | H5: 1,800×3,600程度 16号棟南面
A6: 3 | B6: 資材倉庫（23号棟） | C6: ﾕﾆｯﾄﾊｳｽ 2坪ﾀｲﾌﾟ(換気設備･施錠共) | D6: 1 | E6: 式 | H6: 1,800×3,600程度 23号棟北面駐車場
A7: 4 | B7: 廃材置場（16号棟） | C7: 分別ｺﾝﾃﾅ(ﾌﾚｺﾝ) | D7: 1 | E7: 式 | H7: 16号棟北面
A8: 5 | B8: 廃材置場（23号棟） | C8: 分別ｺﾝﾃﾅ(ﾌﾚｺﾝ) | D8: 1 | E8: 式 | H8: 23号棟北面駐車場
A9: 6 | B9: 仮設ﾄｲﾚ（16号棟） | C9: 大小兼用 | D9: 1 | E9: 式 | H9: 東面足場下
A10: 7 | B10: 仮設ﾄｲﾚ（23号棟） | C10: 大小兼用 | D10: 1 | E10: 式 | G10: 16号棟を使用
A11: 8 | B11: 仮設電源･照明設備（16号棟） | C11: 外部より引込み(足場設置ｽｽﾞﾗﾝ･ｷｬﾌﾟﾀｲﾔｹｰﾌﾞﾙ･ｾﾝｻｰﾗｲﾄ等含む)使用料受注者負担 | D11: 1 | E11: 式
A12: 9 | B12: 仮設電源･照明設備（23号棟） | C12: 外部より引込み(足場設置ｽｽﾞﾗﾝ･ｷｬﾌﾟﾀｲﾔｹｰﾌﾞﾙ･ｾﾝｻｰﾗｲﾄ等含む)使用料受注者負担 | D12: 1 | E12: 式 | G12: 上記に計上
A13: 10 | B13: 仮設用水設備（16号棟） | C13: 共用部より分岐(ｼﾝｸ･仮設排水設備含む) 使用料発注者負担 | D13: 1 | E13: 式 | H13: 東面足場下
A14: 11 | B14: 仮設用水設備（23号棟） | C14: 共用部より分岐(ｼﾝｸ･仮設排水設備含む) 使用料発注者負担 | D14: 1 | E14: 式 | H14: 西面足場下
A15: 12 | B15: 安全対策費 | C15: ﾊﾞﾘｹｰﾄﾞ､ｺｰﾝ､消火器､安全看板等 | D15: 1 | E15: 式
A16: 13 | B16: 安全監視員 | C16: ｶﾞｰﾄﾞﾏﾝ(足場組立･解体時等) | D16: 72 | E16: 人工 | G16: =D16*F16 -> 0 | H16: 組立(40人)解体(24人)その他(8人)
A17: 14 | B17: 什器備品 | C17: 複合機､PC､机､掲示板等 | D17: 1 | E17: 式
A18: 15 | B18: 竣工時清掃 | C18: 手作業による拭き･掃き程度 | D18: 1 | E18: 式
A19: 16 | B19: 廃材処理費（16号棟） | D19: 1 | E19: 式
A20: 17 | B20: 廃材処理費（23号棟） | D20: 1 | E20: 式 | G20: 16号棟に含む
A21: 18 | B21: 植栽養生費 | C21: 枝払いのみ | D21: 1 | E21: 式
A22: 19 | B22: 植栽移植費 | C22: 移植復旧 | D22: 1 | E22: 式 | G22: 別途 | H22: 仮設計画により打合せ後必要に応じて追加費用が発生します｡
A23: 20 | B23: 諸官庁手続費 | C23: 足場設置届､道路使用等 | D23: 1 | E23: 式 | H23: 足場図面作成含む
A24: 21 | B24: 工事用車輌駐車料（16号棟） | C24: 2台×(4ヶ月+不動産手数料1ヶ月) | D24: 1 | E24: 式 | H24: 25,000円/月･台
A25: 22 | B25: 工事用車輌駐車料（23号棟） | C25: 2台×(4ヶ月+不動産手数料1ヶ月) | D25: 1 | E25: 式 | H25: 25,000円/月･台
A26: 23 | B26: 一般養生費 | D26: 1 | E26: 式
A27: 24 | B27: 床養生費 | C27: 塩ﾋﾞ製ｴﾝﾎﾞｽｼｰﾄ使用 | D27: 1 | E27: 式
A28: 25 | B28: 運搬費 | C28: 仮設機材 | D28: 1 | E28: 式
A29: 26 | B29: 仮囲い（16号棟） | C29: B型ﾊﾞﾘｹｰﾄﾞ(ｶﾞｰﾄﾞﾌｪﾝｽ) | D29: 9 | E29: ｍ | G29: =D29*F29 -> 0 | H29: 廃材置場廻り等
A30: 27 | B30: 仮囲い（23号棟） | C30: B型ﾊﾞﾘｹｰﾄﾞ(ｶﾞｰﾄﾞﾌｪﾝｽ) | D30: 20 | E30: ｍ | G30: =D30*F30 -> 0 | H30: 廃材置場廻り等
A31: 28 | B31: 電線防護管 | C31: ﾘｰｽ料 | D31: 8 | E31: ｍ | G31: =D31*F31 -> 0 | H31: 引込部 東側（16･23号棟）
A32: 29 | B32: 電線防護ｶﾊﾞｰ (変圧器･開閉器廻り) | C32: ﾘｰｽ料 | D32: 2 | E32: ヶ所 | G32: =D32*F32 -> 0
A33: 30 | B33: 電線防護措置費用 | C33: 防護管等取付･取外費用 | D33: 1 | E33: 式 | H33: 東京電力ﾊﾟﾜｰｸﾞﾘｯﾄﾞ(株)作業費
A34: 31 | B34: ｱﾙﾐ手摺天端養生（16号棟） | C34: ﾋﾞﾆｰﾙ養生 | D34: 88 | E34: ｍ | G34: 対象外
A35: 32 | B35: ｱﾙﾐ手摺天端養生（23号棟） | C35: ﾋﾞﾆｰﾙ養生 | D35: 82 | E35: ｍ | G35: 対象外
A36: 33 | B36: ﾊﾞﾙｺﾆｰ内乗り入れ設備 | C36: 可搬式を転用 | D36: 1 | E36: 式
B53: Ⅰ 共通仮設工事 計 | G53: =SUM(G3:G52) -> 0
A54: Ⅱ | B54: 足場仮設工事
A55: 1 | B55: 鋼製足場
A56: 1 | B56: 足場設置解体費（16号棟） | C56: 鋼製足場 | D56: 804 | E56: ㎡ | G56: =D56*F56 -> 0 | H56: 繋ぎｱﾝｶｰ･ｽﾃﾝﾚｽ製 水槽廻り含む
...
